BEGIN:VCALENDAR
VERSION:2.0
PRODID:-//ConnecTra Society - ECPv6.15.20//NONSGML v1.0//EN
CALSCALE:GREGORIAN
METHOD:PUBLISH
X-WR-CALNAME:ConnecTra Society
X-ORIGINAL-URL:https://connectra.org
X-WR-CALDESC:Events for ConnecTra Society
REFRESH-INTERVAL;VALUE=DURATION:PT1H
X-Robots-Tag:noindex
X-PUBLISHED-TTL:PT1H
BEGIN:VTIMEZONE
TZID:America/Vancouver
BEGIN:DAYLIGHT
TZOFFSETFROM:-0800
TZOFFSETTO:-0700
TZNAME:PDT
DTSTART:20250309T100000
END:DAYLIGHT
BEGIN:STANDARD
TZOFFSETFROM:-0700
TZOFFSETTO:-0800
TZNAME:PST
DTSTART:20251102T090000
END:STANDARD
BEGIN:DAYLIGHT
TZOFFSETFROM:-0800
TZOFFSETTO:-0700
TZNAME:PDT
DTSTART:20260308T100000
END:DAYLIGHT
BEGIN:STANDARD
TZOFFSETFROM:-0700
TZOFFSETTO:-0800
TZNAME:PST
DTSTART:20261101T090000
END:STANDARD
BEGIN:DAYLIGHT
TZOFFSETFROM:-0800
TZOFFSETTO:-0700
TZNAME:PDT
DTSTART:20270314T100000
END:DAYLIGHT
BEGIN:STANDARD
TZOFFSETFROM:-0700
TZOFFSETTO:-0800
TZNAME:PST
DTSTART:20271107T090000
END:STANDARD
END:VTIMEZONE
BEGIN:VEVENT
DTSTART;TZID=America/Vancouver:20260224T140000
DTEND;TZID=America/Vancouver:20260224T160000
DTSTAMP:20260421T070551
CREATED:20260114T221028Z
LAST-MODIFIED:20260122T210121Z
UID:10001331-1771941600-1771948800@connectra.org
SUMMARY:Tax Filing & Benefits: Accessible Financial Literacy Workshop
DESCRIPTION:Are you interested in learning more about what tax benefits and credits can help support you and your family? Want to prepare for the upcoming tax season? Join Joanne from Family Services of Greater Vancouver on February 24th\, 2 – 4 PM PT\, for an accessible workshop on the tax filing process. \n\n\n\nThis workshop demystifies the tax filing process\, guiding you to the necessary skills and tools to file your taxes online. Whether you are filing your taxes for the first time\, or want to learn more about how to maximize your tax return\, this workshop will provide insight on how to navigate the process from start to finish. \n\n\n\nJoanne Monteiro holds an MBA in finance and a Diploma in Teaching. She worked in the corporate world before venturing into educational services\, specializing in ESL training\, and is enthusiastic and passionate about teaching and financial literacy. Having lived in Dubai\, Cyprus\, the United States\, and Canada\, Joanne uses this cultural exposure to reflect on best serving her clients. Outside of work\, Joanne enjoys travelling\, hiking and trying different cuisines.  \n\n\n\n\nRegister
URL:https://connectra.org/event/tax-filing-benefits-accessible-financial-literacy-workshop/
END:VEVENT
END:VCALENDAR