BEGIN:VCALENDAR
VERSION:2.0
PRODID:-//ConnecTra Society - ECPv6.15.20//NONSGML v1.0//EN
CALSCALE:GREGORIAN
METHOD:PUBLISH
X-WR-CALNAME:ConnecTra Society
X-ORIGINAL-URL:https://connectra.org
X-WR-CALDESC:Events for ConnecTra Society
REFRESH-INTERVAL;VALUE=DURATION:PT1H
X-Robots-Tag:noindex
X-PUBLISHED-TTL:PT1H
BEGIN:VTIMEZONE
TZID:America/Vancouver
BEGIN:DAYLIGHT
TZOFFSETFROM:-0800
TZOFFSETTO:-0700
TZNAME:PDT
DTSTART:20250309T100000
END:DAYLIGHT
BEGIN:STANDARD
TZOFFSETFROM:-0700
TZOFFSETTO:-0800
TZNAME:PST
DTSTART:20251102T090000
END:STANDARD
BEGIN:DAYLIGHT
TZOFFSETFROM:-0800
TZOFFSETTO:-0700
TZNAME:PDT
DTSTART:20260308T100000
END:DAYLIGHT
BEGIN:STANDARD
TZOFFSETFROM:-0700
TZOFFSETTO:-0800
TZNAME:PST
DTSTART:20261101T090000
END:STANDARD
BEGIN:DAYLIGHT
TZOFFSETFROM:-0800
TZOFFSETTO:-0700
TZNAME:PDT
DTSTART:20270314T100000
END:DAYLIGHT
BEGIN:STANDARD
TZOFFSETFROM:-0700
TZOFFSETTO:-0800
TZNAME:PST
DTSTART:20271107T090000
END:STANDARD
END:VTIMEZONE
BEGIN:VEVENT
DTSTART;TZID=America/Vancouver:20260302T163000
DTEND;TZID=America/Vancouver:20260302T183000
DTSTAMP:20260421T070552
CREATED:20260217T204735Z
LAST-MODIFIED:20260217T204738Z
UID:10001336-1772469000-1772476200@connectra.org
SUMMARY:Create-Ability Art Hive
DESCRIPTION:Join us for the opportunity to discover\, express\, and share your Create-Ability through artmaking in a virtual art therapy open-studio program. \n\n\n\nEach week\, you will be prompted through conversations about different topics and be invited to make art around themes or explore your own artistic creativity. There will be a chance to share your art\, ideas\, and feelings that come up. All creative abilities are welcome!Presented by Manisha Ramlu & Stella Liu\, Adler University Master of Counselling: Art Therapy Students. \n\n\n\nThe open-studio will be held for 2 hours weekly (every Monday\, 4:30 pm-6:30 pm\, except on public holidays)\, and participants are welcome to drop in before 6:30 pm at their convenience. With consent from attendees\, sessions will be recorded for internal use only. Recordings will not be shared publicly. \n\n\n\nParticipants are encouraged to bring basic art supplies they feel comfortable using. This may include markers\, pencil crayons\, oil pastels\, watercolours\, pencils\, scissors\, glue\, and construction or drawing paper. Please feel free to use whatever materials you already have available; there is no need for professional or specialized supplies. \n\n\n\nTo participate\, please review\, complete\, and return the participation consent form to mramlu@adler.edu\, one of the student therapists leading the sessions. \n\n\n\nMCP-AT Virtual Art Therapy Group Consent Form \n\n\n\n\nDOWNLOAD\n\n\n\n\n\nregister
URL:https://connectra.org/event/create-ability-art-hive-2/2026-03-02/
END:VEVENT
BEGIN:VEVENT
DTSTART;TZID=America/Vancouver:20260306T120000
DTEND;TZID=America/Vancouver:20260306T130000
DTSTAMP:20260421T070552
CREATED:20260211T200753Z
LAST-MODIFIED:20260211T200758Z
UID:10001334-1772798400-1772802000@connectra.org
SUMMARY:All Bodies Dance Project: Monthly Dance Jam
DESCRIPTION:Dance is for every BODY. \n\n\n\nUntil we return to regular weekly ConnecTogether programming this spring\, these interim sessions are an opportunity to continue connecting with the joy of movement\, and celebrating the diversity of inclusive community dance. \n\n\n\nNo experience required; everyone is welcome in this interactive class. Move as much or as little as you would like. \n\n\n\nPlease note that this live event will NOT be recorded nor streamed to Facebook. Closed captioning will be available on Zoom. \n\n\n\nThese monthly dance jams will be facilitated by Janice Laurence. Janice is a disabled dance artist\, educator\, and movement ambassador whose dance practice includes the joyful exploration of using various mobility aids. Janice was born with the neuromuscular disease Charcot Marie Tooth (CMT) Type 1A. She enthusiastically believes that creativity\, community\, connections\, curiousity\, and diversity are our strengths. \n\n\n\nhttps://www.allbodiesdance.ca \n\n\n\nJoin us Friday\, March 6th 12-1pm PT for our second Contemporary Improv Dance Jam! \n\n\n\nClick the button below to register for this event. \n\n\n\n\nregister
URL:https://connectra.org/event/all-bodies-dance-project-monthly-dance-jam-2/
END:VEVENT
BEGIN:VEVENT
DTSTART;TZID=America/Vancouver:20260309T163000
DTEND;TZID=America/Vancouver:20260309T183000
DTSTAMP:20260421T070552
CREATED:20260217T204735Z
LAST-MODIFIED:20260217T204738Z
UID:10001337-1773073800-1773081000@connectra.org
SUMMARY:Create-Ability Art Hive
DESCRIPTION:Join us for the opportunity to discover\, express\, and share your Create-Ability through artmaking in a virtual art therapy open-studio program. \n\n\n\nEach week\, you will be prompted through conversations about different topics and be invited to make art around themes or explore your own artistic creativity. There will be a chance to share your art\, ideas\, and feelings that come up. All creative abilities are welcome!Presented by Manisha Ramlu & Stella Liu\, Adler University Master of Counselling: Art Therapy Students. \n\n\n\nThe open-studio will be held for 2 hours weekly (every Monday\, 4:30 pm-6:30 pm\, except on public holidays)\, and participants are welcome to drop in before 6:30 pm at their convenience. With consent from attendees\, sessions will be recorded for internal use only. Recordings will not be shared publicly. \n\n\n\nParticipants are encouraged to bring basic art supplies they feel comfortable using. This may include markers\, pencil crayons\, oil pastels\, watercolours\, pencils\, scissors\, glue\, and construction or drawing paper. Please feel free to use whatever materials you already have available; there is no need for professional or specialized supplies. \n\n\n\nTo participate\, please review\, complete\, and return the participation consent form to mramlu@adler.edu\, one of the student therapists leading the sessions. \n\n\n\nMCP-AT Virtual Art Therapy Group Consent Form \n\n\n\n\nDOWNLOAD\n\n\n\n\n\nregister
URL:https://connectra.org/event/create-ability-art-hive-2/2026-03-09/
END:VEVENT
BEGIN:VEVENT
DTSTART;TZID=America/Vancouver:20260316T163000
DTEND;TZID=America/Vancouver:20260316T183000
DTSTAMP:20260421T070552
CREATED:20260217T204735Z
LAST-MODIFIED:20260217T204738Z
UID:10001338-1773678600-1773685800@connectra.org
SUMMARY:Create-Ability Art Hive
DESCRIPTION:Join us for the opportunity to discover\, express\, and share your Create-Ability through artmaking in a virtual art therapy open-studio program. \n\n\n\nEach week\, you will be prompted through conversations about different topics and be invited to make art around themes or explore your own artistic creativity. There will be a chance to share your art\, ideas\, and feelings that come up. All creative abilities are welcome!Presented by Manisha Ramlu & Stella Liu\, Adler University Master of Counselling: Art Therapy Students. \n\n\n\nThe open-studio will be held for 2 hours weekly (every Monday\, 4:30 pm-6:30 pm\, except on public holidays)\, and participants are welcome to drop in before 6:30 pm at their convenience. With consent from attendees\, sessions will be recorded for internal use only. Recordings will not be shared publicly. \n\n\n\nParticipants are encouraged to bring basic art supplies they feel comfortable using. This may include markers\, pencil crayons\, oil pastels\, watercolours\, pencils\, scissors\, glue\, and construction or drawing paper. Please feel free to use whatever materials you already have available; there is no need for professional or specialized supplies. \n\n\n\nTo participate\, please review\, complete\, and return the participation consent form to mramlu@adler.edu\, one of the student therapists leading the sessions. \n\n\n\nMCP-AT Virtual Art Therapy Group Consent Form \n\n\n\n\nDOWNLOAD\n\n\n\n\n\nregister
URL:https://connectra.org/event/create-ability-art-hive-2/2026-03-16/
END:VEVENT
BEGIN:VEVENT
DTSTART;TZID=America/Vancouver:20260323T163000
DTEND;TZID=America/Vancouver:20260323T183000
DTSTAMP:20260421T070552
CREATED:20260217T204735Z
LAST-MODIFIED:20260217T204738Z
UID:10001339-1774283400-1774290600@connectra.org
SUMMARY:Create-Ability Art Hive
DESCRIPTION:Join us for the opportunity to discover\, express\, and share your Create-Ability through artmaking in a virtual art therapy open-studio program. \n\n\n\nEach week\, you will be prompted through conversations about different topics and be invited to make art around themes or explore your own artistic creativity. There will be a chance to share your art\, ideas\, and feelings that come up. All creative abilities are welcome!Presented by Manisha Ramlu & Stella Liu\, Adler University Master of Counselling: Art Therapy Students. \n\n\n\nThe open-studio will be held for 2 hours weekly (every Monday\, 4:30 pm-6:30 pm\, except on public holidays)\, and participants are welcome to drop in before 6:30 pm at their convenience. With consent from attendees\, sessions will be recorded for internal use only. Recordings will not be shared publicly. \n\n\n\nParticipants are encouraged to bring basic art supplies they feel comfortable using. This may include markers\, pencil crayons\, oil pastels\, watercolours\, pencils\, scissors\, glue\, and construction or drawing paper. Please feel free to use whatever materials you already have available; there is no need for professional or specialized supplies. \n\n\n\nTo participate\, please review\, complete\, and return the participation consent form to mramlu@adler.edu\, one of the student therapists leading the sessions. \n\n\n\nMCP-AT Virtual Art Therapy Group Consent Form \n\n\n\n\nDOWNLOAD\n\n\n\n\n\nregister
URL:https://connectra.org/event/create-ability-art-hive-2/2026-03-23/
END:VEVENT
BEGIN:VEVENT
DTSTART;TZID=America/Vancouver:20260330T163000
DTEND;TZID=America/Vancouver:20260330T183000
DTSTAMP:20260421T070552
CREATED:20260217T204735Z
LAST-MODIFIED:20260217T204738Z
UID:10001340-1774888200-1774895400@connectra.org
SUMMARY:Create-Ability Art Hive
DESCRIPTION:Join us for the opportunity to discover\, express\, and share your Create-Ability through artmaking in a virtual art therapy open-studio program. \n\n\n\nEach week\, you will be prompted through conversations about different topics and be invited to make art around themes or explore your own artistic creativity. There will be a chance to share your art\, ideas\, and feelings that come up. All creative abilities are welcome!Presented by Manisha Ramlu & Stella Liu\, Adler University Master of Counselling: Art Therapy Students. \n\n\n\nThe open-studio will be held for 2 hours weekly (every Monday\, 4:30 pm-6:30 pm\, except on public holidays)\, and participants are welcome to drop in before 6:30 pm at their convenience. With consent from attendees\, sessions will be recorded for internal use only. Recordings will not be shared publicly. \n\n\n\nParticipants are encouraged to bring basic art supplies they feel comfortable using. This may include markers\, pencil crayons\, oil pastels\, watercolours\, pencils\, scissors\, glue\, and construction or drawing paper. Please feel free to use whatever materials you already have available; there is no need for professional or specialized supplies. \n\n\n\nTo participate\, please review\, complete\, and return the participation consent form to mramlu@adler.edu\, one of the student therapists leading the sessions. \n\n\n\nMCP-AT Virtual Art Therapy Group Consent Form \n\n\n\n\nDOWNLOAD\n\n\n\n\n\nregister
URL:https://connectra.org/event/create-ability-art-hive-2/2026-03-30/
END:VEVENT
END:VCALENDAR